BEGIN:VCALENDAR
VERSION:2.0
PRODID:-//Barbados Gospelfest - ECPv6.15.20//NONSGML v1.0//EN
CALSCALE:GREGORIAN
METHOD:PUBLISH
X-WR-CALNAME:Barbados Gospelfest
X-ORIGINAL-URL:https://www.barbadosgospelfest.com
X-WR-CALDESC:Events for Barbados Gospelfest
REFRESH-INTERVAL;VALUE=DURATION:PT1H
X-Robots-Tag:noindex
X-PUBLISHED-TTL:PT1H
BEGIN:VTIMEZONE
TZID:America/Halifax
BEGIN:DAYLIGHT
TZOFFSETFROM:-0400
TZOFFSETTO:-0300
TZNAME:ADT
DTSTART:20240310T060000
END:DAYLIGHT
BEGIN:STANDARD
TZOFFSETFROM:-0300
TZOFFSETTO:-0400
TZNAME:AST
DTSTART:20241103T050000
END:STANDARD
BEGIN:DAYLIGHT
TZOFFSETFROM:-0400
TZOFFSETTO:-0300
TZNAME:ADT
DTSTART:20250309T060000
END:DAYLIGHT
BEGIN:STANDARD
TZOFFSETFROM:-0300
TZOFFSETTO:-0400
TZNAME:AST
DTSTART:20251102T050000
END:STANDARD
BEGIN:DAYLIGHT
TZOFFSETFROM:-0400
TZOFFSETTO:-0300
TZNAME:ADT
DTSTART:20260308T060000
END:DAYLIGHT
BEGIN:STANDARD
TZOFFSETFROM:-0300
TZOFFSETTO:-0400
TZNAME:AST
DTSTART:20261101T050000
END:STANDARD
END:VTIMEZONE
BEGIN:VEVENT
DTSTART;TZID=America/Halifax:20250528T180000
DTEND;TZID=America/Halifax:20250528T180000
DTSTAMP:20260421T222705
CREATED:20250416T011931Z
LAST-MODIFIED:20250416T132244Z
UID:1648-1748455200-1748455200@www.barbadosgospelfest.com
SUMMARY:Legacy on the Bay
DESCRIPTION:
URL:https://www.barbadosgospelfest.com/event/legacy-on-the-bay-2025/
LOCATION:Savvy on the Bay\, Bay Street\, St.Michael\, Barbados
CATEGORIES:2025 Events
END:VEVENT
END:VCALENDAR