BEGIN:VCALENDAR
VERSION:2.0
PRODID:-//Barbados Gospelfest - ECPv6.15.20//NONSGML v1.0//EN
CALSCALE:GREGORIAN
METHOD:PUBLISH
X-ORIGINAL-URL:https://www.barbadosgospelfest.com
X-WR-CALDESC:Events for Barbados Gospelfest
REFRESH-INTERVAL;VALUE=DURATION:PT1H
X-Robots-Tag:noindex
X-PUBLISHED-TTL:PT1H
BEGIN:VTIMEZONE
TZID:America/Halifax
BEGIN:DAYLIGHT
TZOFFSETFROM:-0400
TZOFFSETTO:-0300
TZNAME:ADT
DTSTART:20240310T060000
END:DAYLIGHT
BEGIN:STANDARD
TZOFFSETFROM:-0300
TZOFFSETTO:-0400
TZNAME:AST
DTSTART:20241103T050000
END:STANDARD
BEGIN:DAYLIGHT
TZOFFSETFROM:-0400
TZOFFSETTO:-0300
TZNAME:ADT
DTSTART:20250309T060000
END:DAYLIGHT
BEGIN:STANDARD
TZOFFSETFROM:-0300
TZOFFSETTO:-0400
TZNAME:AST
DTSTART:20251102T050000
END:STANDARD
BEGIN:DAYLIGHT
TZOFFSETFROM:-0400
TZOFFSETTO:-0300
TZNAME:ADT
DTSTART:20260308T060000
END:DAYLIGHT
BEGIN:STANDARD
TZOFFSETFROM:-0300
TZOFFSETTO:-0400
TZNAME:AST
DTSTART:20261101T050000
END:STANDARD
END:VTIMEZONE
BEGIN:VEVENT
DTSTART;TZID=America/Halifax:20250531T083000
DTEND;TZID=America/Halifax:20250531T083000
DTSTAMP:20260421T222955
CREATED:20250416T012334Z
LAST-MODIFIED:20250416T132401Z
UID:1659-1748680200-1748680200@www.barbadosgospelfest.com
SUMMARY:SigniaGlobe Artistes’ Development Workshop
DESCRIPTION:
URL:https://www.barbadosgospelfest.com/event/signiaglobe-artistes-development-workshop-2025/
LOCATION:Sky Mall\, N.S.R.Limited Sky Mall\, St.Michael\, Haggatt Hall\, Barbados
CATEGORIES:2025 Events
END:VEVENT
BEGIN:VEVENT
DTSTART;TZID=America/Halifax:20250531T180000
DTEND;TZID=America/Halifax:20250531T180000
DTSTAMP:20260421T222955
CREATED:20250416T012443Z
LAST-MODIFIED:20250528T134434Z
UID:1663-1748714400-1748714400@www.barbadosgospelfest.com
SUMMARY:Ultimate Gospel – A Taste of the Caribbean
DESCRIPTION:Ultimate Gospel – A Taste of the Caribbean
URL:https://www.barbadosgospelfest.com/event/ultimate-gospel-a-taste-of-the-caribbean-2025/
LOCATION:Kensington Oval\, Kensington Oval\, St MIchael\, Barbados
CATEGORIES:2025 Events,Ticketed
END:VEVENT
END:VCALENDAR