BEGIN:VCALENDAR
VERSION:2.0
PRODID:-//Barbados Gospelfest - ECPv6.15.20//NONSGML v1.0//EN
CALSCALE:GREGORIAN
METHOD:PUBLISH
X-WR-CALNAME:Barbados Gospelfest
X-ORIGINAL-URL:https://www.barbadosgospelfest.com
X-WR-CALDESC:Events for Barbados Gospelfest
REFRESH-INTERVAL;VALUE=DURATION:PT1H
X-Robots-Tag:noindex
X-PUBLISHED-TTL:PT1H
BEGIN:VTIMEZONE
TZID:America/Halifax
BEGIN:DAYLIGHT
TZOFFSETFROM:-0400
TZOFFSETTO:-0300
TZNAME:ADT
DTSTART:20240310T060000
END:DAYLIGHT
BEGIN:STANDARD
TZOFFSETFROM:-0300
TZOFFSETTO:-0400
TZNAME:AST
DTSTART:20241103T050000
END:STANDARD
BEGIN:DAYLIGHT
TZOFFSETFROM:-0400
TZOFFSETTO:-0300
TZNAME:ADT
DTSTART:20250309T060000
END:DAYLIGHT
BEGIN:STANDARD
TZOFFSETFROM:-0300
TZOFFSETTO:-0400
TZNAME:AST
DTSTART:20251102T050000
END:STANDARD
BEGIN:DAYLIGHT
TZOFFSETFROM:-0400
TZOFFSETTO:-0300
TZNAME:ADT
DTSTART:20260308T060000
END:DAYLIGHT
BEGIN:STANDARD
TZOFFSETFROM:-0300
TZOFFSETTO:-0400
TZNAME:AST
DTSTART:20261101T050000
END:STANDARD
END:VTIMEZONE
BEGIN:VTIMEZONE
TZID:UTC
BEGIN:STANDARD
TZOFFSETFROM:+0000
TZOFFSETTO:+0000
TZNAME:UTC
DTSTART:20230101T000000
END:STANDARD
END:VTIMEZONE
BEGIN:VEVENT
DTSTART;TZID=America/Halifax:20250601T130000
DTEND;TZID=America/Halifax:20250601T130000
DTSTAMP:20260422T013518
CREATED:20250416T012536Z
LAST-MODIFIED:20250601T232626Z
UID:1666-1748782800-1748782800@www.barbadosgospelfest.com
SUMMARY:Courts One Awesome Day with the Chefette & Frosteez Gospelfest Kids’ Experience
DESCRIPTION:$50 Adv.; $60 Door VAT. inc.\nChildren 12 years & under – Free
URL:https://www.barbadosgospelfest.com/event/one-awesome-day-with-the-chefette-frosteez-gospelfest-kids-experience-2025-1/
LOCATION:Farley Hill National Park\, Farley Hill National Park\, St.Peter\, Benny Hill\, Barbados
CATEGORIES:2025 Events,Ticketed
END:VEVENT
BEGIN:VEVENT
DTSTART;TZID=America/Halifax:20250531T180000
DTEND;TZID=America/Halifax:20250531T180000
DTSTAMP:20260422T013518
CREATED:20250416T012443Z
LAST-MODIFIED:20250528T134434Z
UID:1663-1748714400-1748714400@www.barbadosgospelfest.com
SUMMARY:Ultimate Gospel – A Taste of the Caribbean
DESCRIPTION:Ultimate Gospel – A Taste of the Caribbean
URL:https://www.barbadosgospelfest.com/event/ultimate-gospel-a-taste-of-the-caribbean-2025/
LOCATION:Kensington Oval\, Kensington Oval\, St MIchael\, Barbados
CATEGORIES:2025 Events,Ticketed
END:VEVENT
BEGIN:VEVENT
DTSTART;TZID=America/Halifax:20250530T200000
DTEND;TZID=America/Halifax:20250530T200000
DTSTAMP:20260422T013518
CREATED:20250416T012218Z
LAST-MODIFIED:20250417T012006Z
UID:1656-1748635200-1748635200@www.barbadosgospelfest.com
SUMMARY:Laughter & Jazz
DESCRIPTION:$55 Adv; $65 Door VAT inc.
URL:https://www.barbadosgospelfest.com/event/laughter-jazz-2025/
LOCATION:Savvy on the Bay\, Bay Street\, St.Michael\, Barbados
CATEGORIES:2025 Events,Ticketed
END:VEVENT
BEGIN:VEVENT
DTSTART;TZID=America/Halifax:20250527T190000
DTEND;TZID=America/Halifax:20250527T190000
DTSTAMP:20260422T013518
CREATED:20250416T011746Z
LAST-MODIFIED:20250417T012020Z
UID:1645-1748372400-1748372400@www.barbadosgospelfest.com
SUMMARY:Hymnspeak
DESCRIPTION:
URL:https://www.barbadosgospelfest.com/event/hymnspeak/
LOCATION:St. Mary’s Anglican Church\, St. Mary's Anglican Church\, Bridgetown\, Barbados
CATEGORIES:2025 Events,Ticketed
END:VEVENT
BEGIN:VEVENT
DTSTART;TZID=UTC:20240602T130000
DTEND;TZID=UTC:20240602T200000
DTSTAMP:20260422T013518
CREATED:20240411T055910Z
LAST-MODIFIED:20240507T104537Z
UID:1150-1717333200-1717358400@www.barbadosgospelfest.com
SUMMARY:Courts One Awesome Day
DESCRIPTION:Courts One Awesome Day in association with Life 97.5 FM with the Chefette & Frosteez\, BPWCCUL Kids’ Experience\nGet ready for the ultimate family-friendly event of the year at Courts One Awesome Day in association with Life 97.5 FM\, with the Chefette & Frosteez\, Barbados Public Workers’ Cooperative Credit Union Ltd. Kids’ Experience! Join us on June 2nd\, 2024\, at Farley Hill for a day filled with music\, fun\, and fellowship. \nOne Awesome Day is the event that brings together people of all ages for a memorable day in the park. Pack your picnic baskets\, blankets and chairs\, or come prepared to party\, but come ready to soak in the uplifting vibes of gospel music performed by top artists including Limoblaze\, Samuel Medas\, and Promise. \nBut that’s not all! We’re thrilled to announce that the Kids’ Experience is back\, giving children the space to enjoy their own Gospelfest adventure right in the park. While parents experience the main event\, kids can participate in interactive activities\, games\, and performances designed just for them. \nWhether you’re a music lover\, or a parent looking for a fun day out with the family\, Courts One Awesome Day has something for everyone. \nDon’t miss the culmination event of Gospelfest 2024! Mark your calendars and join us for a day of joy\, celebration\, and inspiration at Farley Hill. See you there! \n 
URL:https://www.barbadosgospelfest.com/event/courts-one-awesome-day-with-the-chefette-frosteez-gospelfest-kids-experience/
LOCATION:Farley Hill National Park\, Farley Hill National Park\, St.Peter\, Benny Hill\, Barbados
CATEGORIES:2024 Events,Ticketed
ATTACH;FMTTYPE=image/jpeg:https://www.barbadosgospelfest.com/wp-content/uploads/2024/04/GOSFST_Screens_0001_OAD.jpeg
END:VEVENT
BEGIN:VEVENT
DTSTART;TZID=UTC:20240601T180000
DTEND;TZID=UTC:20240601T220000
DTSTAMP:20260422T013518
CREATED:20240411T055806Z
LAST-MODIFIED:20240507T104543Z
UID:1145-1717264800-1717279200@www.barbadosgospelfest.com
SUMMARY:Ultimate Gospel
DESCRIPTION:Ultimate Gospel  – A Taste of the Caribbean\nGet ready for an unforgettable night of worship\, praise\, and culinary delights at Ultimate Gospel – A Taste of the Caribbean! Join us on June 1st\, 2024\, at the Abundant Life Assembly for a unique and immersive experience that celebrates the rich diversity of Caribbean culture. \nWhile Ultimate Gospel promises the same electrifying atmosphere of soul-stirring music and heartfelt worship\, this year\, we’re adding a new twist with A Taste of the Caribbean. Prepare your taste buds for a nocturnal food affair featuring delicious culinary creations from Barbados\, Saint Vincent & The Grenadines\, Trinidad & Tobago\, Guyana\, and Jamaica. \nAs you soak in the uplifting melodies and powerful performances headlined by the renowned Marvia Providence\, indulge in a culinary journey through the flavours of the Caribbean. From savoury dishes to sweet treats\, there’s something to satisfy every palate. \nDon’t miss your chance to experience the ultimate fusion of music and cuisine at Ultimate Gospel – A Taste of the Caribbean. Join us for a night of spiritual renewal\, cultural celebration\, and mouth-watering delights that will leave you inspired\, uplifted and filled. Mark your calendars and come hungry for both soul-nourishing music and delectable Caribbean dishes!
URL:https://www.barbadosgospelfest.com/event/ultimate-gospel-a-taste-of-the-caribbean/
LOCATION:Abundant Life Assembly\, Abundant Life Assembly\, St.Michael\, Bank Hall\, Barbados
CATEGORIES:2024 Events,Ticketed
ATTACH;FMTTYPE=image/jpeg:https://www.barbadosgospelfest.com/wp-content/uploads/2024/04/GOSFST_Screens_0002_UG.jpeg
END:VEVENT
BEGIN:VEVENT
DTSTART;TZID=UTC:20240531T200000
DTEND;TZID=UTC:20240531T230000
DTSTAMP:20260422T013518
CREATED:20240411T055620Z
LAST-MODIFIED:20240507T104556Z
UID:1137-1717185600-1717196400@www.barbadosgospelfest.com
SUMMARY:Laughter & Jazz
DESCRIPTION:Get ready to unwind and indulge in an evening of pure joy and entertainment at Laughter & Jazz\, now taking place for the first time at Savvy on the Bay. As one of the most anticipated events of the year\, Laughter & Jazz promises to bring together individuals from all walks of life for an unforgettable experience. \nImmerse yourself in the soulful rhythms and captivating melodies of featured artists\, who will serenade you with inspirational tunes that uplift the spirit and soothe the soul. Let the music wash over you as you relax in the scenic surroundings of Savvy on the Bay\, creating the perfect backdrop for an evening of musical delight. \nBut that’s not all – brace yourself for side-splitting laughter as our lineup of comedians takes the stage with their clean and wholesome humour guaranteed to have you in stitches. From witty anecdotes to hilarious observations\, our comedians will leave you laughing until your cheeks hurt. \nLaughter & Jazz is more than just an event – it’s an experience that everyone should partake in each year. With its new location at Savvy on the Bay and the enchanting ambiance it brings\, this year’s edition promises to be an absolute must on your calendar. \nDon’t miss out on the opportunity to revel in the magic of Laughter & Jazz – an evening filled with laughter\, music\, and unforgettable memories. Get your tickets now and prepare for an evening of wholesome entertainment that will leave you smiling from ear to ear.
URL:https://www.barbadosgospelfest.com/event/laughter-jazz/
LOCATION:Savvy on the Bay\, Bay Street\, St.Michael\, Barbados
CATEGORIES:2024 Events,Ticketed
ATTACH;FMTTYPE=image/jpeg:https://www.barbadosgospelfest.com/wp-content/uploads/2024/04/GOSFST_Screens_0000_LAJ.jpeg
END:VEVENT
BEGIN:VEVENT
DTSTART;TZID=UTC:20240528T190000
DTEND;TZID=UTC:20240528T210000
DTSTAMP:20260422T013518
CREATED:20240411T043020Z
LAST-MODIFIED:20240513T223721Z
UID:1128-1716922800-1716930000@www.barbadosgospelfest.com
SUMMARY:Hymnspeak
DESCRIPTION:Join us for a  journey down memory lane at Hymnspeak\, held at St. Mary’s Anglican Church. This cherished event brings together people of all ages to lift their voices in harmony\, singing the timeless hymns that have shaped our faith and experiences\, and filled our hearts with joy for generations. \nExperience the nostalgia and uplifting spirit as we come together to sing the songs of our childhood\, accompanied by the excellent direction of Reverend Dr. Mikie Roberts. It’s a truly heartwarming experience that will transport you back in time and fill your soul with peace and joy. \nDon’t miss this opportunity to join the chorus of voices and create lasting memories as we celebrate our faith and fellowship through the power of music. Come and be a part of something truly special at Hymnspeak!
URL:https://www.barbadosgospelfest.com/event/hymnspeak-2/
LOCATION:St. Mary’s Anglican Church\, St. Mary's Anglican Church\, Bridgetown\, Barbados
CATEGORIES:2024 Events,Ticketed
ATTACH;FMTTYPE=image/jpeg:https://www.barbadosgospelfest.com/wp-content/uploads/2024/04/GOSFST_Screens_0005_HS.jpeg
END:VEVENT
END:VCALENDAR